BEGIN:VCALENDAR
VERSION:2.0
PRODID:-//Ville d&#039;Albertville - ECPv6.15.20//NONSGML v1.0//EN
CALSCALE:GREGORIAN
METHOD:PUBLISH
X-WR-CALNAME:Ville d&#039;Albertville
X-ORIGINAL-URL:https://www.albertville.fr
X-WR-CALDESC:Évènements pour Ville d&#039;Albertville
REFRESH-INTERVAL;VALUE=DURATION:PT1H
X-Robots-Tag:noindex
X-PUBLISHED-TTL:PT1H
BEGIN:VTIMEZONE
TZID:Europe/Paris
BEGIN:DAYLIGHT
TZOFFSETFROM:+0100
TZOFFSETTO:+0200
TZNAME:CEST
DTSTART:20250330T010000
END:DAYLIGHT
BEGIN:STANDARD
TZOFFSETFROM:+0200
TZOFFSETTO:+0100
TZNAME:CET
DTSTART:20251026T010000
END:STANDARD
BEGIN:DAYLIGHT
TZOFFSETFROM:+0100
TZOFFSETTO:+0200
TZNAME:CEST
DTSTART:20260329T010000
END:DAYLIGHT
BEGIN:STANDARD
TZOFFSETFROM:+0200
TZOFFSETTO:+0100
TZNAME:CET
DTSTART:20261025T010000
END:STANDARD
BEGIN:DAYLIGHT
TZOFFSETFROM:+0100
TZOFFSETTO:+0200
TZNAME:CEST
DTSTART:20270328T010000
END:DAYLIGHT
BEGIN:STANDARD
TZOFFSETFROM:+0200
TZOFFSETTO:+0100
TZNAME:CET
DTSTART:20271031T010000
END:STANDARD
END:VTIMEZONE
BEGIN:VEVENT
DTSTART;TZID=Europe/Paris:20260421T200000
DTEND;TZID=Europe/Paris:20260422T200000
DTSTAMP:20260422T072339
CREATED:20260316T140556Z
LAST-MODIFIED:20260316T140556Z
UID:285177-1776801600-1776888000@www.albertville.fr
SUMMARY:Ostinato - comédie musicale
DESCRIPTION:Melina Faka\, chorégraphe et plasticienne\, interroge notre rapport à la Terre\, nos désirs de conquête et notre besoin insatiable de recommencement. \nEntre rêve et destruction\, Ostinato explore la comestibilité des paysages et l’imaginaire de la fuite en proposant un voyage entre chorégraphies\, chants et arts visuels.\nEn conjuguant danse contemporaine\, arts visuels et design\, l’artiste imagine une expérience radicalement nouvelle. Le public est immergé dans un nouvel espace\, accompagné par un chœur amateur du territoire. \nPlus d’informations
URL:https://www.albertville.fr/evenements/ostinato-comedie-musicale/
LOCATION:Dôme Thêatre\, 135 place de l'Europe\, Albertville\, 73200
ATTACH;FMTTYPE=image/jpeg:https://www.albertville.fr/wp-content/uploads/2024/04/note-musique-rendu-3d-conception-illustration-affiche-depliant.jpg
END:VEVENT
END:VCALENDAR