BEGIN:VCALENDAR
VERSION:2.0
PRODID:-//Ville d&#039;Albertville - ECPv6.15.20//NONSGML v1.0//EN
CALSCALE:GREGORIAN
METHOD:PUBLISH
X-ORIGINAL-URL:https://www.albertville.fr
X-WR-CALDESC:Évènements pour Ville d&#039;Albertville
REFRESH-INTERVAL;VALUE=DURATION:PT1H
X-Robots-Tag:noindex
X-PUBLISHED-TTL:PT1H
BEGIN:VTIMEZONE
TZID:Europe/Paris
BEGIN:DAYLIGHT
TZOFFSETFROM:+0100
TZOFFSETTO:+0200
TZNAME:CEST
DTSTART:20250330T010000
END:DAYLIGHT
BEGIN:STANDARD
TZOFFSETFROM:+0200
TZOFFSETTO:+0100
TZNAME:CET
DTSTART:20251026T010000
END:STANDARD
BEGIN:DAYLIGHT
TZOFFSETFROM:+0100
TZOFFSETTO:+0200
TZNAME:CEST
DTSTART:20260329T010000
END:DAYLIGHT
BEGIN:STANDARD
TZOFFSETFROM:+0200
TZOFFSETTO:+0100
TZNAME:CET
DTSTART:20261025T010000
END:STANDARD
BEGIN:DAYLIGHT
TZOFFSETFROM:+0100
TZOFFSETTO:+0200
TZNAME:CEST
DTSTART:20270328T010000
END:DAYLIGHT
BEGIN:STANDARD
TZOFFSETFROM:+0200
TZOFFSETTO:+0100
TZNAME:CET
DTSTART:20271031T010000
END:STANDARD
END:VTIMEZONE
BEGIN:VEVENT
DTSTART;TZID=Europe/Paris:20260428T143000
DTEND;TZID=Europe/Paris:20260428T163000
DTSTAMP:20260422T072500
CREATED:20260311T100920Z
LAST-MODIFIED:20260311T100920Z
UID:285047-1777386600-1777393800@www.albertville.fr
SUMMARY:Atelier poterie
DESCRIPTION:Découvrez les poteries romaines et savoyardes du musée puis prolongez cette immersion par un moment de création. Accompagné pas à pas\, façonnez votre propre objet en argile\, dans une atmosphère conviviale et propice à l’échange. \nInformations et billetterie 
URL:https://www.albertville.fr/evenements/atelier-poterie/
LOCATION:Musée d’art et d’histoire\, Grande Place\, Albertville\, 73200\, France
ATTACH;FMTTYPE=image/png:https://www.albertville.fr/wp-content/uploads/2024/01/atelier-poterie.png
END:VEVENT
BEGIN:VEVENT
DTSTART;TZID=Europe/Paris:20260428T183000
DTEND;TZID=Europe/Paris:20260428T210000
DTSTAMP:20260422T072500
CREATED:20260410T101918Z
LAST-MODIFIED:20260410T101918Z
UID:285423-1777401000-1777410000@www.albertville.fr
SUMMARY:Conférence sur le numérique européen
DESCRIPTION:« Le numérique européen\, comment se passer des mastodontes américains » par Bernard DEMELIN\, ingénieur retraité\, spécialiste du numérique \nConférence avec la Maison de l’Europe d’Albertville et de la Savoie
URL:https://www.albertville.fr/evenements/conference-sur-le-numerique-europeen/
LOCATION:Maison Communale du parc\, 790 rue Commandant Dubois\, Albertville\, 73200
ATTACH;FMTTYPE=image/jpeg:https://www.albertville.fr/wp-content/uploads/2023/11/27018-scaled.jpg
END:VEVENT
BEGIN:VEVENT
DTSTART;TZID=Europe/Paris:20260428T190000
DTEND;TZID=Europe/Paris:20260429T190000
DTSTAMP:20260422T072500
CREATED:20260316T142819Z
LAST-MODIFIED:20260316T142819Z
UID:285188-1777402800-1777489200@www.albertville.fr
SUMMARY:Cépages dansants
DESCRIPTION:Quels points communs y a-t-il entre la danse et le vin ? Quel vocabulaire s’applique à la fois à une chorégraphie et à un breuvage ? Cette association détonante est proposée par les deux chorégraphes de la compagnie La Grive\, Clémentine Maubon et Bastien Lefèvre qui\, pour l’occasion\, s’acoquinent avec l’œnologue Emmanuel Ménard. \nCharpenté\, athlétique\, précis\, bien en chair\, épais\, vif\, sec\, souple\, qui a des épaules\, de la carrure\, de la cuisse\, de la longueur\, des lignes\, de belles\ncourbes\, du volume\, un fragment d’infini\, une matière irradiante : autant de mots et d’expressions utilisées lorsqu’on décrit un vin\, une danse ou un danseur. \nCépages dansants est un dialogue entre le vin et la danse ainsi qu’une rencontre entre la mise en scène de la danse et celle de la dégustation. À travers une proposition ludique\, le caviste et les deux danseurs offrent un voyage autant qu’un apprentissage\, tous les sens ouverts… \nImage : théâtre les 3 chenes \n\n\n\n\nInformations 
URL:https://www.albertville.fr/evenements/cepages-dansants/
LOCATION:Dôme Thêatre\, 135 place de l'Europe\, Albertville\, 73200
ATTACH;FMTTYPE=image/webp:https://www.albertville.fr/wp-content/uploads/2026/03/cepages_dansants_-_DSC_0025_credit_theatre_les_3_chenes-1024x683-1.webp
END:VEVENT
END:VCALENDAR