BEGIN:VCALENDAR
VERSION:2.0
PRODID:-//Ville d&#039;Albertville - ECPv6.15.20//NONSGML v1.0//EN
CALSCALE:GREGORIAN
METHOD:PUBLISH
X-ORIGINAL-URL:https://www.albertville.fr
X-WR-CALDESC:Évènements pour Ville d&#039;Albertville
REFRESH-INTERVAL;VALUE=DURATION:PT1H
X-Robots-Tag:noindex
X-PUBLISHED-TTL:PT1H
BEGIN:VTIMEZONE
TZID:Europe/Paris
BEGIN:DAYLIGHT
TZOFFSETFROM:+0100
TZOFFSETTO:+0200
TZNAME:CEST
DTSTART:20250330T010000
END:DAYLIGHT
BEGIN:STANDARD
TZOFFSETFROM:+0200
TZOFFSETTO:+0100
TZNAME:CET
DTSTART:20251026T010000
END:STANDARD
BEGIN:DAYLIGHT
TZOFFSETFROM:+0100
TZOFFSETTO:+0200
TZNAME:CEST
DTSTART:20260329T010000
END:DAYLIGHT
BEGIN:STANDARD
TZOFFSETFROM:+0200
TZOFFSETTO:+0100
TZNAME:CET
DTSTART:20261025T010000
END:STANDARD
BEGIN:DAYLIGHT
TZOFFSETFROM:+0100
TZOFFSETTO:+0200
TZNAME:CEST
DTSTART:20270328T010000
END:DAYLIGHT
BEGIN:STANDARD
TZOFFSETFROM:+0200
TZOFFSETTO:+0100
TZNAME:CET
DTSTART:20271031T010000
END:STANDARD
END:VTIMEZONE
BEGIN:VEVENT
DTSTART;TZID=Europe/Paris:20260513T090000
DTEND;TZID=Europe/Paris:20260513T103000
DTSTAMP:20260422T085045
CREATED:20260311T101915Z
LAST-MODIFIED:20260311T102035Z
UID:285052-1778662800-1778668200@www.albertville.fr
SUMMARY:Yoga au musée et visite flash
DESCRIPTION:Vivez une expérience originale au musée : une séance de relaxation qui associe pratique du yoga et découverte des collections\, avec Pascale Chapuis\, professeure de yoga. \nVisite flash : BOTTES DE POSTILLON\nAussi intrigantes que spectaculaires\, les bottes de postillon conservées au MAHA vous invitent au voyage : traversez le temps et l’espace à la découverte des systèmes de transports hippomobiles\, et revenez aux origines des célèbres bottes de sept lieues… \nInformations et billetterie 
URL:https://www.albertville.fr/evenements/yoga-au-musee-et-visite-flash-2/
LOCATION:Musée d’art et d’histoire\, Grande Place\, Albertville\, 73200\, France
ATTACH;FMTTYPE=image/jpeg:https://www.albertville.fr/wp-content/uploads/2023/10/Ypga-au-musee.jpg
END:VEVENT
END:VCALENDAR