BEGIN:VCALENDAR
VERSION:2.0
PRODID:-//Ville d&#039;Albertville - ECPv6.15.20//NONSGML v1.0//EN
CALSCALE:GREGORIAN
METHOD:PUBLISH
X-ORIGINAL-URL:https://www.albertville.fr
X-WR-CALDESC:Évènements pour Ville d&#039;Albertville
REFRESH-INTERVAL;VALUE=DURATION:PT1H
X-Robots-Tag:noindex
X-PUBLISHED-TTL:PT1H
BEGIN:VTIMEZONE
TZID:Europe/Paris
BEGIN:DAYLIGHT
TZOFFSETFROM:+0100
TZOFFSETTO:+0200
TZNAME:CEST
DTSTART:20250330T010000
END:DAYLIGHT
BEGIN:STANDARD
TZOFFSETFROM:+0200
TZOFFSETTO:+0100
TZNAME:CET
DTSTART:20251026T010000
END:STANDARD
BEGIN:DAYLIGHT
TZOFFSETFROM:+0100
TZOFFSETTO:+0200
TZNAME:CEST
DTSTART:20260329T010000
END:DAYLIGHT
BEGIN:STANDARD
TZOFFSETFROM:+0200
TZOFFSETTO:+0100
TZNAME:CET
DTSTART:20261025T010000
END:STANDARD
BEGIN:DAYLIGHT
TZOFFSETFROM:+0100
TZOFFSETTO:+0200
TZNAME:CEST
DTSTART:20270328T010000
END:DAYLIGHT
BEGIN:STANDARD
TZOFFSETFROM:+0200
TZOFFSETTO:+0100
TZNAME:CET
DTSTART:20271031T010000
END:STANDARD
END:VTIMEZONE
BEGIN:VEVENT
DTSTART;TZID=Europe/Paris:20260523T183000
DTEND;TZID=Europe/Paris:20260523T230000
DTSTAMP:20260422T085015
CREATED:20260311T142346Z
LAST-MODIFIED:20260311T144031Z
UID:285056-1779561000-1779577200@www.albertville.fr
SUMMARY:Nuit Européenne des musées
DESCRIPTION:Ouverture exceptionnelle du musée de 18h30 à 23h .Entrée au musée et animations gratuites \nLES VOYAGEURS DU TEMPS de 18h30 à 21h\nÀ l’occasion de la Nuit européenne des musées\, le MAHA vous invite à un périple dans le temps… En famille ou entre amis\, parcourez les salles du musée à la recherche d’énigmes à résoudre.\nOserez-vous relever le défi ? \nInformations et billetterie 
URL:https://www.albertville.fr/evenements/nuit-europeenne-des-musees-2/
LOCATION:Musée d’art et d’histoire\, Grande Place\, Albertville\, 73200\, France
ATTACH;FMTTYPE=image/png:https://www.albertville.fr/wp-content/uploads/2026/03/nuit-europeenne-des-musees.png
END:VEVENT
END:VCALENDAR