BEGIN:VCALENDAR
VERSION:2.0
PRODID:-//Ville d&#039;Albertville - ECPv6.15.20//NONSGML v1.0//EN
CALSCALE:GREGORIAN
METHOD:PUBLISH
X-WR-CALNAME:Ville d&#039;Albertville
X-ORIGINAL-URL:https://www.albertville.fr
X-WR-CALDESC:Évènements pour Ville d&#039;Albertville
REFRESH-INTERVAL;VALUE=DURATION:PT1H
X-Robots-Tag:noindex
X-PUBLISHED-TTL:PT1H
BEGIN:VTIMEZONE
TZID:Europe/Paris
BEGIN:DAYLIGHT
TZOFFSETFROM:+0100
TZOFFSETTO:+0200
TZNAME:CEST
DTSTART:20250330T010000
END:DAYLIGHT
BEGIN:STANDARD
TZOFFSETFROM:+0200
TZOFFSETTO:+0100
TZNAME:CET
DTSTART:20251026T010000
END:STANDARD
BEGIN:DAYLIGHT
TZOFFSETFROM:+0100
TZOFFSETTO:+0200
TZNAME:CEST
DTSTART:20260329T010000
END:DAYLIGHT
BEGIN:STANDARD
TZOFFSETFROM:+0200
TZOFFSETTO:+0100
TZNAME:CET
DTSTART:20261025T010000
END:STANDARD
BEGIN:DAYLIGHT
TZOFFSETFROM:+0100
TZOFFSETTO:+0200
TZNAME:CEST
DTSTART:20270328T010000
END:DAYLIGHT
BEGIN:STANDARD
TZOFFSETFROM:+0200
TZOFFSETTO:+0100
TZNAME:CET
DTSTART:20271031T010000
END:STANDARD
END:VTIMEZONE
BEGIN:VEVENT
DTSTART;TZID=Europe/Paris:20260527T143000
DTEND;TZID=Europe/Paris:20260527T163000
DTSTAMP:20260422T084846
CREATED:20260317T085014Z
LAST-MODIFIED:20260317T085014Z
UID:285195-1779892200-1779899400@www.albertville.fr
SUMMARY:Fêtes des mères et des pères - Atelier initiation à la dorure
DESCRIPTION:À partir de 8 ans \nRare et précieux\, l’or fascine et inspire. Découvrez les secrets de la dorure à la feuille\, savoir-faire séculaire\, à travers les statues des collections du musée. Puis dorez un objet en salle. Une idée en or de cadeau à offrir à ses parents ! \nInformations et billetterie 
URL:https://www.albertville.fr/evenements/fetes-des-meres-et-des-peres-atelier-initiation-a-la-dorure/
LOCATION:Musée d’art et d’histoire\, Grande Place\, Albertville\, 73200\, France
ATTACH;FMTTYPE=image/jpeg:https://www.albertville.fr/wp-content/uploads/2024/09/Atelier-dorure-scaled.jpg
END:VEVENT
END:VCALENDAR