BEGIN:VCALENDAR
VERSION:2.0
PRODID:-//Ville d&#039;Albertville - ECPv6.15.20//NONSGML v1.0//EN
CALSCALE:GREGORIAN
METHOD:PUBLISH
X-WR-CALNAME:Ville d&#039;Albertville
X-ORIGINAL-URL:https://www.albertville.fr
X-WR-CALDESC:Évènements pour Ville d&#039;Albertville
REFRESH-INTERVAL;VALUE=DURATION:PT1H
X-Robots-Tag:noindex
X-PUBLISHED-TTL:PT1H
BEGIN:VTIMEZONE
TZID:Europe/Paris
BEGIN:DAYLIGHT
TZOFFSETFROM:+0100
TZOFFSETTO:+0200
TZNAME:CEST
DTSTART:20250330T010000
END:DAYLIGHT
BEGIN:STANDARD
TZOFFSETFROM:+0200
TZOFFSETTO:+0100
TZNAME:CET
DTSTART:20251026T010000
END:STANDARD
BEGIN:DAYLIGHT
TZOFFSETFROM:+0100
TZOFFSETTO:+0200
TZNAME:CEST
DTSTART:20260329T010000
END:DAYLIGHT
BEGIN:STANDARD
TZOFFSETFROM:+0200
TZOFFSETTO:+0100
TZNAME:CET
DTSTART:20261025T010000
END:STANDARD
BEGIN:DAYLIGHT
TZOFFSETFROM:+0100
TZOFFSETTO:+0200
TZNAME:CEST
DTSTART:20270328T010000
END:DAYLIGHT
BEGIN:STANDARD
TZOFFSETFROM:+0200
TZOFFSETTO:+0100
TZNAME:CET
DTSTART:20271031T010000
END:STANDARD
END:VTIMEZONE
BEGIN:VEVENT
DTSTART;TZID=Europe/Paris:20260627T080000
DTEND;TZID=Europe/Paris:20260627T170000
DTSTAMP:20260422T101352
CREATED:20260311T145418Z
LAST-MODIFIED:20260311T145418Z
UID:285060-1782547200-1782579600@www.albertville.fr
SUMMARY:Centenaire des fêtes musicales et du costume savoyard
DESCRIPTION:En juin 1926\, Albertville organise les grandes fêtes musicales et du costume savoyard. La ville se pare alors de mille feux pour accueillir des délégations venues de l’ensemble du territoire. À l’occasion du centenaire de l’événement\, profitez d’un programme d’animations festif et convivial\, aussi haut en couleur qu’en musique ! \nProgramme complet à venir \nInformations et billetterie  \n  \n 
URL:https://www.albertville.fr/evenements/centenaire-des-fetes-musicales-et-du-costume-savoyard/
ATTACH;FMTTYPE=image/png:https://www.albertville.fr/wp-content/uploads/2026/03/Capture-decran-2026-03-11-155222.png
END:VEVENT
END:VCALENDAR