BEGIN:VCALENDAR
VERSION:2.0
PRODID:-//Ville d&#039;Albertville - ECPv6.15.20//NONSGML v1.0//EN
CALSCALE:GREGORIAN
METHOD:PUBLISH
X-ORIGINAL-URL:https://www.albertville.fr
X-WR-CALDESC:Évènements pour Ville d&#039;Albertville
REFRESH-INTERVAL;VALUE=DURATION:PT1H
X-Robots-Tag:noindex
X-PUBLISHED-TTL:PT1H
BEGIN:VTIMEZONE
TZID:Europe/Paris
BEGIN:DAYLIGHT
TZOFFSETFROM:+0100
TZOFFSETTO:+0200
TZNAME:CEST
DTSTART:20250330T010000
END:DAYLIGHT
BEGIN:STANDARD
TZOFFSETFROM:+0200
TZOFFSETTO:+0100
TZNAME:CET
DTSTART:20251026T010000
END:STANDARD
BEGIN:DAYLIGHT
TZOFFSETFROM:+0100
TZOFFSETTO:+0200
TZNAME:CEST
DTSTART:20260329T010000
END:DAYLIGHT
BEGIN:STANDARD
TZOFFSETFROM:+0200
TZOFFSETTO:+0100
TZNAME:CET
DTSTART:20261025T010000
END:STANDARD
BEGIN:DAYLIGHT
TZOFFSETFROM:+0100
TZOFFSETTO:+0200
TZNAME:CEST
DTSTART:20270328T010000
END:DAYLIGHT
BEGIN:STANDARD
TZOFFSETFROM:+0200
TZOFFSETTO:+0100
TZNAME:CET
DTSTART:20271031T010000
END:STANDARD
END:VTIMEZONE
BEGIN:VEVENT
DTSTART;TZID=Europe/Paris:20260628T143000
DTEND;TZID=Europe/Paris:20260628T163000
DTSTAMP:20260422T101501
CREATED:20260311T095810Z
LAST-MODIFIED:20260311T095810Z
UID:285039-1782657000-1782664200@www.albertville.fr
SUMMARY:Visite guidée : le fort du mont
DESCRIPTION:Prenez de la hauteur en pénétrant dans le fort du Mont\, point culminant de la place-forte d’Albertville. Déployé à la fin du XIXe siècle\, il contrôlait une position stratégique majeure\, entre Tarentaise et Beaufortain. \nInformations et billetterie 
URL:https://www.albertville.fr/evenements/visite-guidee-le-fort-du-mont-17/
LOCATION:Fort du Mont\, Fort du Mont\, Albertville\, 73200\, France
ATTACH;FMTTYPE=image/jpeg:https://www.albertville.fr/wp-content/uploads/2024/08/PXL_20240717_125908277.MP_-scaled.jpg
END:VEVENT
END:VCALENDAR